BEGIN:VCALENDAR
VERSION:2.0
PRODID:-//NWOK Buzz - ECPv6.15.20//NONSGML v1.0//EN
CALSCALE:GREGORIAN
METHOD:PUBLISH
X-WR-CALNAME:NWOK Buzz
X-ORIGINAL-URL:https://nwokbuzz.com
X-WR-CALDESC:Events for NWOK Buzz
REFRESH-INTERVAL;VALUE=DURATION:PT1H
X-Robots-Tag:noindex
X-PUBLISHED-TTL:PT1H
BEGIN:VTIMEZONE
TZID:America/Chicago
BEGIN:DAYLIGHT
TZOFFSETFROM:-0600
TZOFFSETTO:-0500
TZNAME:CDT
DTSTART:20240310T080000
END:DAYLIGHT
BEGIN:STANDARD
TZOFFSETFROM:-0500
TZOFFSETTO:-0600
TZNAME:CST
DTSTART:20241103T070000
END:STANDARD
BEGIN:DAYLIGHT
TZOFFSETFROM:-0600
TZOFFSETTO:-0500
TZNAME:CDT
DTSTART:20250309T080000
END:DAYLIGHT
BEGIN:STANDARD
TZOFFSETFROM:-0500
TZOFFSETTO:-0600
TZNAME:CST
DTSTART:20251102T070000
END:STANDARD
BEGIN:DAYLIGHT
TZOFFSETFROM:-0600
TZOFFSETTO:-0500
TZNAME:CDT
DTSTART:20260308T080000
END:DAYLIGHT
BEGIN:STANDARD
TZOFFSETFROM:-0500
TZOFFSETTO:-0600
TZNAME:CST
DTSTART:20261101T070000
END:STANDARD
END:VTIMEZONE
BEGIN:VEVENT
DTSTART;VALUE=DATE:20250404
DTEND;VALUE=DATE:20250406
DTSTAMP:20260420T005113
CREATED:20250317T160319Z
LAST-MODIFIED:20250317T160319Z
UID:475-1743724800-1743897599@nwokbuzz.com
SUMMARY:Bull Battle IX
DESCRIPTION:Right around the corner is Bull Battle IX at Woods County Fairgrounds in Alva. There will be bull riding\, team events\, and the famous cowboy pinball at 7 PM both nights. Event includes a trade show with vendors from 5-10 PM Friday and 9 AM to 10 PM Saturday. Tickets are $20 for adults\, $5 for kiddos 10 and under. On Saturday those with NWOSU ID can get in for $5 too.
URL:https://nwokbuzz.com/event/bull-battle-ix/
CATEGORIES:Alva,Rodeos
ATTACH;FMTTYPE=image/jpeg:https://nwokbuzz.com/wp-content/uploads/2025/03/ALVA_BULLBATTLE.jpg
END:VEVENT
END:VCALENDAR