BEGIN:VCALENDAR
VERSION:2.0
PRODID:-//NWOK Buzz - ECPv6.15.20//NONSGML v1.0//EN
CALSCALE:GREGORIAN
METHOD:PUBLISH
X-WR-CALNAME:NWOK Buzz
X-ORIGINAL-URL:https://nwokbuzz.com
X-WR-CALDESC:Events for NWOK Buzz
REFRESH-INTERVAL;VALUE=DURATION:PT1H
X-Robots-Tag:noindex
X-PUBLISHED-TTL:PT1H
BEGIN:VTIMEZONE
TZID:America/Chicago
BEGIN:DAYLIGHT
TZOFFSETFROM:-0600
TZOFFSETTO:-0500
TZNAME:CDT
DTSTART:20240310T080000
END:DAYLIGHT
BEGIN:STANDARD
TZOFFSETFROM:-0500
TZOFFSETTO:-0600
TZNAME:CST
DTSTART:20241103T070000
END:STANDARD
BEGIN:DAYLIGHT
TZOFFSETFROM:-0600
TZOFFSETTO:-0500
TZNAME:CDT
DTSTART:20250309T080000
END:DAYLIGHT
BEGIN:STANDARD
TZOFFSETFROM:-0500
TZOFFSETTO:-0600
TZNAME:CST
DTSTART:20251102T070000
END:STANDARD
BEGIN:DAYLIGHT
TZOFFSETFROM:-0600
TZOFFSETTO:-0500
TZNAME:CDT
DTSTART:20260308T080000
END:DAYLIGHT
BEGIN:STANDARD
TZOFFSETFROM:-0500
TZOFFSETTO:-0600
TZNAME:CST
DTSTART:20261101T070000
END:STANDARD
END:VTIMEZONE
BEGIN:VEVENT
DTSTART;VALUE=DATE:20250606
DTEND;VALUE=DATE:20250608
DTSTAMP:20260419T215827
CREATED:20250515T160946Z
LAST-MODIFIED:20250531T214408Z
UID:663-1749168000-1749340799@nwokbuzz.com
SUMMARY:Nescatunga Arts Festival
DESCRIPTION:The 54th annual Nescatunga Arts Festival with Quilt Show is slated for June 6-7 at the Alva Recreation Complex\, 1887 Goldbug Blvd\, Alva. Festival hours are Friday from 4 to 9 PM and Saturday from 9 AM to 4 PM. \nNescatunga Arts and Humanities Council runs the two-day Nescatunga Arts Festival that showcases the artistry of fine artists and crafters with a Quilt Show by the Peace by Piece Quilt Guild.
URL:https://nwokbuzz.com/event/nescatunga-arts-festival/
CATEGORIES:Alva,Art Show
ATTACH;FMTTYPE=image/jpeg:https://nwokbuzz.com/wp-content/uploads/2025/05/NESCATUNGA_ARTFEST_B.jpg
END:VEVENT
END:VCALENDAR