BEGIN:VCALENDAR
VERSION:2.0
PRODID:-//NWOK Buzz - ECPv6.15.20//NONSGML v1.0//EN
CALSCALE:GREGORIAN
METHOD:PUBLISH
X-WR-CALNAME:NWOK Buzz
X-ORIGINAL-URL:https://nwokbuzz.com
X-WR-CALDESC:Events for NWOK Buzz
REFRESH-INTERVAL;VALUE=DURATION:PT1H
X-Robots-Tag:noindex
X-PUBLISHED-TTL:PT1H
BEGIN:VTIMEZONE
TZID:UTC
BEGIN:STANDARD
TZOFFSETFROM:+0000
TZOFFSETTO:+0000
TZNAME:UTC
DTSTART:20240101T000000
END:STANDARD
END:VTIMEZONE
BEGIN:VEVENT
DTSTART;TZID=UTC:20250607T100000
DTEND;TZID=UTC:20250607T170000
DTSTAMP:20260421T090335
CREATED:20250131T221155Z
LAST-MODIFIED:20250131T221155Z
UID:367-1749290400-1749315600@nwokbuzz.com
SUMMARY:Canton Market Extravaganza
DESCRIPTION:Canton Chamber of Commerce hosts its annual Vendor Market Extravaganza on Main Street in downtown Canton. There will be more than 70 vendors\, food trucks\, and local businesses participating this year. Support small business by shopping antiques\, flea market\, handmade goods\, food\, boutique booths\, and local shops.
URL:https://nwokbuzz.com/event/canton-market-extravaganza/
CATEGORIES:Canton,Shopping
ATTACH;FMTTYPE=image/jpeg:https://nwokbuzz.com/wp-content/uploads/2025/01/CANTON_EXTRAVAGANZA_7JUN25.jpg
END:VEVENT
END:VCALENDAR